BEGIN:VCALENDAR
VERSION:2.0
PRODID:-//GDO - ECPv6.15.20//NONSGML v1.0//EN
CALSCALE:GREGORIAN
METHOD:PUBLISH
X-WR-CALNAME:GDO
X-ORIGINAL-URL:https://vereniginggdo.nl
X-WR-CALDESC:Evenementen voor GDO
REFRESH-INTERVAL;VALUE=DURATION:PT1H
X-Robots-Tag:noindex
X-PUBLISHED-TTL:PT1H
BEGIN:VTIMEZONE
TZID:Europe/Amsterdam
BEGIN:DAYLIGHT
TZOFFSETFROM:+0100
TZOFFSETTO:+0200
TZNAME:CEST
DTSTART:20230326T010000
END:DAYLIGHT
BEGIN:STANDARD
TZOFFSETFROM:+0200
TZOFFSETTO:+0100
TZNAME:CET
DTSTART:20231029T010000
END:STANDARD
BEGIN:DAYLIGHT
TZOFFSETFROM:+0100
TZOFFSETTO:+0200
TZNAME:CEST
DTSTART:20240331T010000
END:DAYLIGHT
BEGIN:STANDARD
TZOFFSETFROM:+0200
TZOFFSETTO:+0100
TZNAME:CET
DTSTART:20241027T010000
END:STANDARD
BEGIN:DAYLIGHT
TZOFFSETFROM:+0100
TZOFFSETTO:+0200
TZNAME:CEST
DTSTART:20250330T010000
END:DAYLIGHT
BEGIN:STANDARD
TZOFFSETFROM:+0200
TZOFFSETTO:+0100
TZNAME:CET
DTSTART:20251026T010000
END:STANDARD
END:VTIMEZONE
BEGIN:VEVENT
DTSTART;TZID=Europe/Amsterdam:20240912T100000
DTEND;TZID=Europe/Amsterdam:20240913T160000
DTSTAMP:20260422T152400
CREATED:20240729T131949Z
LAST-MODIFIED:20240729T134114Z
UID:4706-1726135200-1726243200@vereniginggdo.nl
SUMMARY:GDO2daagse 2024
DESCRIPTION:Onze jaarlijkse GDO2daagse vol uitwisseling en ontmoeting zijn bedoeld voor leidinggevenden van natuur- en duurzaamheidscentra en ambtenaren met natuur- en milieu/duurzaamheidseducatie in hun portefeuille in ons netwerk. Dit keer zijn we op donderdag 12 en vrijdag 13 september te gast bij Kunstwerk! in Zevenaar.\nWe gaan met elkaar aan de slag met het thema: Bruggen slaan tussen cultuur en natuur De kracht van Kunstwerk! \n 
URL:https://vereniginggdo.nl/event/gdo2daagse-2024/
ATTACH;FMTTYPE=image/jpeg:https://vereniginggdo.nl/wp-content/uploads/2024/07/Turmac-Cultuurfabriek-Zevenaar.jpg
END:VEVENT
END:VCALENDAR