BEGIN:VCALENDAR
VERSION:2.0
PRODID:-//GDO - ECPv6.15.20//NONSGML v1.0//EN
CALSCALE:GREGORIAN
METHOD:PUBLISH
X-WR-CALNAME:GDO
X-ORIGINAL-URL:https://vereniginggdo.nl
X-WR-CALDESC:Evenementen voor GDO
REFRESH-INTERVAL;VALUE=DURATION:PT1H
X-Robots-Tag:noindex
X-PUBLISHED-TTL:PT1H
BEGIN:VTIMEZONE
TZID:Europe/Amsterdam
BEGIN:DAYLIGHT
TZOFFSETFROM:+0100
TZOFFSETTO:+0200
TZNAME:CEST
DTSTART:20230326T010000
END:DAYLIGHT
BEGIN:STANDARD
TZOFFSETFROM:+0200
TZOFFSETTO:+0100
TZNAME:CET
DTSTART:20231029T010000
END:STANDARD
BEGIN:DAYLIGHT
TZOFFSETFROM:+0100
TZOFFSETTO:+0200
TZNAME:CEST
DTSTART:20240331T010000
END:DAYLIGHT
BEGIN:STANDARD
TZOFFSETFROM:+0200
TZOFFSETTO:+0100
TZNAME:CET
DTSTART:20241027T010000
END:STANDARD
BEGIN:DAYLIGHT
TZOFFSETFROM:+0100
TZOFFSETTO:+0200
TZNAME:CEST
DTSTART:20250330T010000
END:DAYLIGHT
BEGIN:STANDARD
TZOFFSETFROM:+0200
TZOFFSETTO:+0100
TZNAME:CET
DTSTART:20251026T010000
END:STANDARD
END:VTIMEZONE
BEGIN:VEVENT
DTSTART;TZID=Europe/Amsterdam:20240306T093000
DTEND;TZID=Europe/Amsterdam:20240306T170000
DTSTAMP:20260423T002504
CREATED:20240126T110736Z
LAST-MODIFIED:20240131T105821Z
UID:4409-1709717400-1709744400@vereniginggdo.nl
SUMMARY:Domeinbijeenkomst natuurinclusief onderwijs: 6 maart
DESCRIPTION:Het Collectief Natuurinclusief domein Onderwijs heeft in 2023 samengewerkt aan de totstandkoming van de Agenda Natuurinclusief 2.0\, nu is het tijd om met de geformuleerde acties aan het werk te gaan. Domein Onderwijs\, Vereniging GDO\, SME\, Leren voor Morgen\, IVN en Kenniscentrum Mission Zero van de Haagse Hogeschool nodigen je graag uit voor de start van deze nieuwe fase op 6 maart. \nWe zijn te gast in het Woldhuis in Apeldoorn. In de ontluikende bossen zien we je graag om zaadjes te planten voor een natuurinclusief 2024 (en verder). Meld je hieronder aan voor 23 februari. \nProgramma\nHet programma bestaat uit twee delen\, je bent welkom om de hele dag te komen of één van de dagdelen kiezen. \nIn de ochtend richten we ons op de organisatie van het domein\, we nodigen mensen en organisaties uit die vanuit hun werkzaamheden of organisatie een bijdrage willen en kunnen leveren aan een of meerdere actielijnen. Daarbij staat de volgende vraag centraal: Hoe werken we als domein aan de realisatie van de doelstellingen? We presenteren het jaarplan van 2024 en we verkennen de alliantievorming rond de diverse actielijnen. \nHet middagprogramma richt zich op onderwijsprofessionals en wordt begeleid door Bas van den Berg\, associate lector Leren voor Regeneratie aan de Haagse Hogeschool. We werken in het kader van actielijn 1 ‘Onderwijs in ontwikkeling’ aan de versterking van de natuurinclusieve onderwijspraktijk. Verwacht een actieve werksessie waarin we focussen op de onderwijspraktijk en werken aan de ontwikkeling van de community. Na afloop ontvang je het boek van Bas van den Berg: Onderwijzen tijdens Transities. \n09:30-10:00 | Inloop met koffie\n10:00-12:00 | Samenwerken in domein Onderwijs\n12:00-13:00 | Lunch\n13:00-16:00 | Onderwijs in ontwikkeling\, werksessie met Bas van den Berg\n16:00-17:00 | Borrel \nLocatie: Woldhuis\, Het Woldhuis 11 in Apeldoorn\nRouteinformatie vind je hier. \nBen jij erbij? Meld je aan voor 23 februari
URL:https://vereniginggdo.nl/event/domeinbijeenkomst-natuurinclusief-onderwijs/
LOCATION:Het Woldhuis\, Het Woldhuis 11\, Apeldoorn\, Nederland
ATTACH;FMTTYPE=image/jpeg:https://vereniginggdo.nl/wp-content/uploads/2024/01/bijeenkomst-domein-onderwijs-lang-e1706698689875.jpg
END:VEVENT
END:VCALENDAR