BEGIN:VCALENDAR
VERSION:2.0
PRODID:-//GDO - ECPv6.15.20//NONSGML v1.0//EN
CALSCALE:GREGORIAN
METHOD:PUBLISH
X-WR-CALNAME:GDO
X-ORIGINAL-URL:https://vereniginggdo.nl
X-WR-CALDESC:Evenementen voor GDO
REFRESH-INTERVAL;VALUE=DURATION:PT1H
X-Robots-Tag:noindex
X-PUBLISHED-TTL:PT1H
BEGIN:VTIMEZONE
TZID:Europe/Amsterdam
BEGIN:DAYLIGHT
TZOFFSETFROM:+0100
TZOFFSETTO:+0200
TZNAME:CEST
DTSTART:20250330T010000
END:DAYLIGHT
BEGIN:STANDARD
TZOFFSETFROM:+0200
TZOFFSETTO:+0100
TZNAME:CET
DTSTART:20251026T010000
END:STANDARD
BEGIN:DAYLIGHT
TZOFFSETFROM:+0100
TZOFFSETTO:+0200
TZNAME:CEST
DTSTART:20260329T010000
END:DAYLIGHT
BEGIN:STANDARD
TZOFFSETFROM:+0200
TZOFFSETTO:+0100
TZNAME:CET
DTSTART:20261025T010000
END:STANDARD
BEGIN:DAYLIGHT
TZOFFSETFROM:+0100
TZOFFSETTO:+0200
TZNAME:CEST
DTSTART:20270328T010000
END:DAYLIGHT
BEGIN:STANDARD
TZOFFSETFROM:+0200
TZOFFSETTO:+0100
TZNAME:CET
DTSTART:20271031T010000
END:STANDARD
END:VTIMEZONE
BEGIN:VEVENT
DTSTART;TZID=Europe/Amsterdam:20260518T080000
DTEND;TZID=Europe/Amsterdam:20260522T170000
DTSTAMP:20260423T002416
CREATED:20260105T133822Z
LAST-MODIFIED:20260105T133903Z
UID:6053-1779091200-1779469200@vereniginggdo.nl
SUMMARY:Week van de Schooltuin 2026
DESCRIPTION:Tijdens de Week van de Schooltuin van 18 tot en met 22 mei 2026 zetten we de schijnwerpers op het schooltuinieren. Deze week wordt georganiseerd door de Alliantie Schooltuinen\, waarvan GDO mede-initiatiefnemer en trekker is. Houdt de website van de Alliantie in de gaten.
URL:https://vereniginggdo.nl/event/week-van-de-schooltuin-2026/
END:VEVENT
BEGIN:VEVENT
DTSTART;TZID=Europe/Amsterdam:20260910T100000
DTEND;TZID=Europe/Amsterdam:20260911T150000
DTSTAMP:20260423T002416
CREATED:20260105T134209Z
LAST-MODIFIED:20260105T134209Z
UID:6055-1789034400-1789138800@vereniginggdo.nl
SUMMARY:GDO2daagse 2026
DESCRIPTION:Onze jaarlijkse GDO2daagse is bedoeld voor leidinggevenden van natuur- en duurzaamheidscentra en ambtenaren voor natuur- en duurzaamheidseducatie en participatie. Dit keer zijn we op donderdag 10 en vrijdag 11 september te gast bij CNME Het Groene Huis in Amersfoort.
URL:https://vereniginggdo.nl/event/gdo2daagse-2026/
END:VEVENT
END:VCALENDAR