BEGIN:VCALENDAR
VERSION:2.0
PRODID:-//GDO - ECPv6.15.20//NONSGML v1.0//EN
CALSCALE:GREGORIAN
METHOD:PUBLISH
X-WR-CALNAME:GDO
X-ORIGINAL-URL:https://vereniginggdo.nl
X-WR-CALDESC:Evenementen voor GDO
REFRESH-INTERVAL;VALUE=DURATION:PT1H
X-Robots-Tag:noindex
X-PUBLISHED-TTL:PT1H
BEGIN:VTIMEZONE
TZID:Europe/Amsterdam
BEGIN:DAYLIGHT
TZOFFSETFROM:+0100
TZOFFSETTO:+0200
TZNAME:CEST
DTSTART:20230326T010000
END:DAYLIGHT
BEGIN:STANDARD
TZOFFSETFROM:+0200
TZOFFSETTO:+0100
TZNAME:CET
DTSTART:20231029T010000
END:STANDARD
BEGIN:DAYLIGHT
TZOFFSETFROM:+0100
TZOFFSETTO:+0200
TZNAME:CEST
DTSTART:20240331T010000
END:DAYLIGHT
BEGIN:STANDARD
TZOFFSETFROM:+0200
TZOFFSETTO:+0100
TZNAME:CET
DTSTART:20241027T010000
END:STANDARD
BEGIN:DAYLIGHT
TZOFFSETFROM:+0100
TZOFFSETTO:+0200
TZNAME:CEST
DTSTART:20250330T010000
END:DAYLIGHT
BEGIN:STANDARD
TZOFFSETFROM:+0200
TZOFFSETTO:+0100
TZNAME:CET
DTSTART:20251026T010000
END:STANDARD
END:VTIMEZONE
BEGIN:VEVENT
DTSTART;TZID=Europe/Amsterdam:20241007T130000
DTEND;TZID=Europe/Amsterdam:20241011T140000
DTSTAMP:20260422T104653
CREATED:20240729T132322Z
LAST-MODIFIED:20240729T134249Z
UID:4708-1728306000-1728655200@vereniginggdo.nl
SUMMARY:Week van de Participatie
DESCRIPTION:In de week van 7 tot en met 11 oktober gaan we dagelijks net na de middag online met elkaar in gesprek over participatieprojecten bij NDE-centra om kennis en ervaring met elkaar te delen.
URL:https://vereniginggdo.nl/event/week-van-de-participatie/
ATTACH;FMTTYPE=image/jpeg:https://vereniginggdo.nl/wp-content/uploads/2024/07/artikel-geveltuintjes-scaled.jpg
END:VEVENT
END:VCALENDAR